BEGIN:VCALENDAR
VERSION:2.0
PRODID:icalendar-ruby
CALSCALE:GREGORIAN
METHOD:PUBLISH
BEGIN:VEVENT
DTSTAMP:20260424T191530Z
UID:a87536be-2968-453f-a992-1a9bee957687
DTSTART;VALUE=DATE:20080920
DTEND;VALUE=DATE:20080920
DESCRIPTION:Southwest Wyoming Outdoor BMX
LOCATION:1795 Bridger Rd   Green River WY 82935 USA
SUMMARY:Standard Single
URL:/site/bmx_races/136054
END:VEVENT
END:VCALENDAR
