BEGIN:VCALENDAR
VERSION:2.0
PRODID:icalendar-ruby
CALSCALE:GREGORIAN
METHOD:PUBLISH
BEGIN:VEVENT
DTSTAMP:20260425T232934Z
UID:89e827ee-5e72-476e-8672-c5e192692573
DTSTART;VALUE=DATE:20081129
DTEND;VALUE=DATE:20081129
DESCRIPTION:Reno Battleborn BMX
LOCATION:Sun Valley Gid Community Park 115 W 6th Ave Sun Valley NV 89433 US
 A
SUMMARY:Standard Single
URL:/site/bmx_races/136625
END:VEVENT
END:VCALENDAR
