BEGIN:VCALENDAR
VERSION:2.0
PRODID:icalendar-ruby
CALSCALE:GREGORIAN
METHOD:PUBLISH
BEGIN:VEVENT
DTSTAMP:20260422T212612Z
UID:75a5a2eb-527e-4c88-8bcb-5576bddcec72
DTSTART;VALUE=DATE:20080619
DTEND;VALUE=DATE:20080619
DESCRIPTION:Lakes Area BMX
LOCATION:10415 Town Hall Street  Brainerd MN 56401 USA
SUMMARY:Standard Single
URL:/site/bmx_races/136787
END:VEVENT
END:VCALENDAR
