BEGIN:VCALENDAR
VERSION:2.0
PRODID:icalendar-ruby
CALSCALE:GREGORIAN
METHOD:PUBLISH
BEGIN:VEVENT
DTSTAMP:20260422T180849Z
UID:49706323-15de-4b14-a51d-144bd265309e
DTSTART;VALUE=DATE:20081113
DTEND;VALUE=DATE:20081113
DESCRIPTION:Steel Wheels Indoor BMX
LOCATION:709 N Hobart Rd  Hobart IN 46350 USA
SUMMARY:Standard Single
URL:/site/bmx_races/137760
END:VEVENT
END:VCALENDAR
