BEGIN:VCALENDAR
VERSION:2.0
PRODID:icalendar-ruby
CALSCALE:GREGORIAN
METHOD:PUBLISH
BEGIN:VEVENT
DTSTAMP:20260423T085621Z
UID:52891d7b-dced-4cb8-826c-d6df554e299d
DTSTART;VALUE=DATE:20070531
DTEND;VALUE=DATE:20070531
DESCRIPTION:Emerald Valley BMX
LOCATION:2715 Leo Harris Pkwy  Eugene OR 97402 USA
SUMMARY:Standard Single
URL:/site/bmx_races/139462
END:VEVENT
END:VCALENDAR
