BEGIN:VCALENDAR
VERSION:2.0
PRODID:icalendar-ruby
CALSCALE:GREGORIAN
METHOD:PUBLISH
BEGIN:VEVENT
DTSTAMP:20260423T121508Z
UID:8369afb4-ae23-47cb-b90e-f28646fc59d5
DTSTART;VALUE=DATE:20070324
DTEND;VALUE=DATE:20070324
DESCRIPTION:Emerald Valley BMX
LOCATION:2715 Leo Harris Pkwy  Eugene OR 97402 USA
SUMMARY:Standard Single
URL:/site/bmx_races/139849
END:VEVENT
END:VCALENDAR
