BEGIN:VCALENDAR
VERSION:2.0
PRODID:icalendar-ruby
CALSCALE:GREGORIAN
METHOD:PUBLISH
BEGIN:VEVENT
DTSTAMP:20260424T030324Z
UID:69d6cb74-446f-4c29-900d-e283754cc957
DTSTART;VALUE=DATE:20070308
DTEND;VALUE=DATE:20070308
DESCRIPTION:Steel Wheels Indoor BMX
LOCATION:709 N Hobart Rd  Hobart IN 46350 USA
SUMMARY:Standard Single
URL:/site/bmx_races/139993
END:VEVENT
END:VCALENDAR
