BEGIN:VCALENDAR
VERSION:2.0
PRODID:icalendar-ruby
CALSCALE:GREGORIAN
METHOD:PUBLISH
BEGIN:VEVENT
DTSTAMP:20260423T004439Z
UID:47b1a0fb-f8e8-4aa4-862b-3e7a299168f1
DTSTART;VALUE=DATE:20070701
DTEND;VALUE=DATE:20070701
DESCRIPTION:Carson City BMX
LOCATION:1555 Livermore Ln  Carson City NV 89721 USA
SUMMARY:Standard Single
URL:/site/bmx_races/140674
END:VEVENT
END:VCALENDAR
