BEGIN:VCALENDAR
VERSION:2.0
PRODID:icalendar-ruby
CALSCALE:GREGORIAN
METHOD:PUBLISH
BEGIN:VEVENT
DTSTAMP:20260423T020914Z
UID:3cac7a91-47e3-40c0-9d92-ff5eada99506
DTSTART;VALUE=DATE:20070917
DTEND;VALUE=DATE:20070917
DESCRIPTION:Emerald Valley BMX
LOCATION:2715 Leo Harris Pkwy  Eugene OR 97402 USA
SUMMARY:Standard Single
URL:/site/bmx_races/141452
END:VEVENT
END:VCALENDAR
