BEGIN:VCALENDAR
VERSION:2.0
PRODID:icalendar-ruby
CALSCALE:GREGORIAN
METHOD:PUBLISH
BEGIN:VEVENT
DTSTAMP:20260425T153417Z
UID:b7f8474c-c08f-463f-a27b-a4e0bf4d2fad
DTSTART;VALUE=DATE:20071021
DTEND;VALUE=DATE:20071021
DESCRIPTION:Oak Creek BMX
LOCATION:648 Riverside Ave  Roseville CA 95678 USA
SUMMARY:Standard Single
URL:/site/bmx_races/141514
END:VEVENT
END:VCALENDAR
