BEGIN:VCALENDAR
VERSION:2.0
PRODID:icalendar-ruby
CALSCALE:GREGORIAN
METHOD:PUBLISH
BEGIN:VEVENT
DTSTAMP:20260425T140009Z
UID:8c5817d4-49d5-464c-a598-7a4d08bf4d75
DTSTART;VALUE=DATE:20071103
DTEND;VALUE=DATE:20071103
DESCRIPTION:Oak Creek BMX
LOCATION:648 Riverside Ave  Roseville CA 95678 USA
SUMMARY:Standard Single
URL:/site/bmx_races/141836
END:VEVENT
END:VCALENDAR
