BEGIN:VCALENDAR
VERSION:2.0
PRODID:icalendar-ruby
CALSCALE:GREGORIAN
METHOD:PUBLISH
BEGIN:VEVENT
DTSTAMP:20260424T030239Z
UID:af0c77f7-ee97-45ad-ba56-1999151b4c39
DTSTART;VALUE=DATE:20070315
DTEND;VALUE=DATE:20070315
DESCRIPTION:Steel Wheels Indoor BMX
LOCATION:709 N Hobart Rd  Hobart IN 46350 USA
SUMMARY:Standard Single
URL:/site/bmx_races/143655
END:VEVENT
END:VCALENDAR
