BEGIN:VCALENDAR
VERSION:2.0
PRODID:icalendar-ruby
CALSCALE:GREGORIAN
METHOD:PUBLISH
BEGIN:VEVENT
DTSTAMP:20260424T030333Z
UID:a05dbd52-4c9e-4f17-85ca-a5f13df4e93d
DTSTART;VALUE=DATE:20070310
DTEND;VALUE=DATE:20070310
DESCRIPTION:Steel Wheels Indoor BMX
LOCATION:709 N Hobart Rd  Hobart IN 46350 USA
SUMMARY:Standard Single
URL:/site/bmx_races/145062
END:VEVENT
END:VCALENDAR
