BEGIN:VCALENDAR
VERSION:2.0
PRODID:icalendar-ruby
CALSCALE:GREGORIAN
METHOD:PUBLISH
BEGIN:VEVENT
DTSTAMP:20260423T163233Z
UID:d579c0ab-e1ae-4b80-9806-fef34c3242ed
DTSTART;VALUE=DATE:20070710
DTEND;VALUE=DATE:20070710
DESCRIPTION:Lakes Area BMX
LOCATION:10415 Town Hall Street  Brainerd MN 56401 USA
SUMMARY:Standard Single
URL:/site/bmx_races/146351
END:VEVENT
END:VCALENDAR
