BEGIN:VCALENDAR
VERSION:2.0
PRODID:icalendar-ruby
CALSCALE:GREGORIAN
METHOD:PUBLISH
BEGIN:VEVENT
DTSTAMP:20260425T232847Z
UID:4190f218-14eb-4437-abd8-2856f68b75c4
DTSTART;VALUE=DATE:20060728
DTEND;VALUE=DATE:20060728
DESCRIPTION:Carson City BMX
LOCATION:1555 Livermore Ln  Carson City NV 89721 USA
SUMMARY:Standard Single
URL:/site/bmx_races/146725
END:VEVENT
END:VCALENDAR
