BEGIN:VCALENDAR
VERSION:2.0
PRODID:icalendar-ruby
CALSCALE:GREGORIAN
METHOD:PUBLISH
BEGIN:VEVENT
DTSTAMP:20260425T232853Z
UID:f23ffbc7-b68c-4ef4-8880-99d0b60a0c11
DTSTART;VALUE=DATE:20060730
DTEND;VALUE=DATE:20060730
DESCRIPTION:Carson City BMX
LOCATION:1555 Livermore Ln  Carson City NV 89721 USA
SUMMARY:Standard Single
URL:/site/bmx_races/147836
END:VEVENT
END:VCALENDAR
