BEGIN:VCALENDAR
VERSION:2.0
PRODID:icalendar-ruby
CALSCALE:GREGORIAN
METHOD:PUBLISH
BEGIN:VEVENT
DTSTAMP:20260424T010210Z
UID:a55362b1-4ee9-40f8-a188-a2439c9d5b07
DTSTART;VALUE=DATE:20060731
DTEND;VALUE=DATE:20060731
DESCRIPTION:Emerald Valley BMX
LOCATION:2715 Leo Harris Pkwy  Eugene OR 97402 USA
SUMMARY:Standard Single
URL:/site/bmx_races/150876
END:VEVENT
END:VCALENDAR
