BEGIN:VCALENDAR
VERSION:2.0
PRODID:icalendar-ruby
CALSCALE:GREGORIAN
METHOD:PUBLISH
BEGIN:VEVENT
DTSTAMP:20260425T184745Z
UID:e220ee2b-4054-443a-9f1c-3cc973fd9430
DTSTART;VALUE=DATE:20061029
DTEND;VALUE=DATE:20061029
DESCRIPTION:Carson City BMX
LOCATION:1555 Livermore Ln  Carson City NV 89721 USA
SUMMARY:Standard Single
URL:/site/bmx_races/151013
END:VEVENT
END:VCALENDAR
