BEGIN:VCALENDAR
VERSION:2.0
PRODID:icalendar-ruby
CALSCALE:GREGORIAN
METHOD:PUBLISH
BEGIN:VEVENT
DTSTAMP:20260424T051733Z
UID:5e2a71fe-cdea-46f2-a3aa-0c724d0277e4
DTSTART;VALUE=DATE:20060408
DTEND;VALUE=DATE:20060408
DESCRIPTION:Emerald Valley BMX
LOCATION:2715 Leo Harris Pkwy  Eugene OR 97402 USA
SUMMARY:Standard Single
URL:/site/bmx_races/151418
END:VEVENT
END:VCALENDAR
