BEGIN:VCALENDAR
VERSION:2.0
PRODID:icalendar-ruby
CALSCALE:GREGORIAN
METHOD:PUBLISH
BEGIN:VEVENT
DTSTAMP:20260424T120331Z
UID:fe4db98d-6cdf-4c04-b2c5-baf4692fab7b
DTSTART;VALUE=DATE:20061107
DTEND;VALUE=DATE:20061107
DESCRIPTION:Spokes BMX
LOCATION: 2550 W Bennett  Springfield MO 65807 USA
SUMMARY:Standard Single
URL:/site/bmx_races/151431
END:VEVENT
END:VCALENDAR
