BEGIN:VCALENDAR
VERSION:2.0
PRODID:icalendar-ruby
CALSCALE:GREGORIAN
METHOD:PUBLISH
BEGIN:VEVENT
DTSTAMP:20260424T051739Z
UID:898cc075-7f6e-472b-8023-f8e3f3a5f382
DTSTART;VALUE=DATE:20060420
DTEND;VALUE=DATE:20060420
DESCRIPTION:Emerald Valley BMX
LOCATION:2715 Leo Harris Pkwy  Eugene OR 97402 USA
SUMMARY:Standard Single
URL:/site/bmx_races/151588
END:VEVENT
END:VCALENDAR
