BEGIN:VCALENDAR
VERSION:2.0
PRODID:icalendar-ruby
CALSCALE:GREGORIAN
METHOD:PUBLISH
BEGIN:VEVENT
DTSTAMP:20260423T220334Z
UID:19baaba6-1fa4-425f-814c-b3f12bdf5e27
DTSTART;VALUE=DATE:20060921
DTEND;VALUE=DATE:20060921
DESCRIPTION:Emerald Valley BMX
LOCATION:2715 Leo Harris Pkwy  Eugene OR 97402 USA
SUMMARY:Standard Single
URL:/site/bmx_races/152082
END:VEVENT
END:VCALENDAR
