BEGIN:VCALENDAR
VERSION:2.0
PRODID:icalendar-ruby
CALSCALE:GREGORIAN
METHOD:PUBLISH
BEGIN:VEVENT
DTSTAMP:20260425T132246Z
UID:93d732f3-8388-4cc1-ac22-12bb485c45fb
DTSTART;VALUE=DATE:20050512
DTEND;VALUE=DATE:20050512
DESCRIPTION:Steel Wheels Indoor BMX
LOCATION:709 N Hobart Rd  Hobart IN 46350 USA
SUMMARY:Standard Single
URL:/site/bmx_races/155697
END:VEVENT
END:VCALENDAR
