BEGIN:VCALENDAR
VERSION:2.0
PRODID:icalendar-ruby
CALSCALE:GREGORIAN
METHOD:PUBLISH
BEGIN:VEVENT
DTSTAMP:20260424T144429Z
UID:89e20b6e-f521-4bf1-83d3-e01c955eae03
DTSTART;VALUE=DATE:20051024
DTEND;VALUE=DATE:20051024
DESCRIPTION:Emerald Valley BMX
LOCATION:2715 Leo Harris Pkwy  Eugene OR 97402 USA
SUMMARY:Standard Single
URL:/site/bmx_races/155999
END:VEVENT
END:VCALENDAR
