BEGIN:VCALENDAR
VERSION:2.0
PRODID:icalendar-ruby
CALSCALE:GREGORIAN
METHOD:PUBLISH
BEGIN:VEVENT
DTSTAMP:20260425T165615Z
UID:47fd6920-6c15-4237-818c-1ecc15a8ff00
DTSTART;VALUE=DATE:20050312
DTEND;VALUE=DATE:20050312
DESCRIPTION:Steel Wheels Indoor BMX
LOCATION:709 N Hobart Rd  Hobart IN 46350 USA
SUMMARY:Standard Single
URL:/site/bmx_races/156620
END:VEVENT
END:VCALENDAR
