BEGIN:VCALENDAR
VERSION:2.0
PRODID:icalendar-ruby
CALSCALE:GREGORIAN
METHOD:PUBLISH
BEGIN:VEVENT
DTSTAMP:20260419T153120Z
UID:498ab360-d5a4-4f29-ab13-795a61a353fd
DTSTART;VALUE=DATE:20050515
DTEND;VALUE=DATE:20050515
DESCRIPTION:Cedar BMX
LOCATION:Red Barn Village Rd  Clarks Summit PA 18644 USA
SUMMARY:Qualifier Triple
URL:/site/bmx_races/159820
END:VEVENT
END:VCALENDAR
