BEGIN:VCALENDAR
VERSION:2.0
PRODID:icalendar-ruby
CALSCALE:GREGORIAN
METHOD:PUBLISH
BEGIN:VEVENT
DTSTAMP:20260424T021046Z
UID:d4d9aa22-6c3f-41ca-977f-859f4c57ae01
DTSTART;VALUE=DATE:20050925
DTEND;VALUE=DATE:20050925
DESCRIPTION:Imagination Glen BMX
LOCATION:2190 N State Rd 149  Portage IN 46304 USA
SUMMARY:Final Triple
URL:/site/bmx_races/160521
END:VEVENT
END:VCALENDAR
