BEGIN:VCALENDAR
VERSION:2.0
PRODID:icalendar-ruby
CALSCALE:GREGORIAN
METHOD:PUBLISH
BEGIN:VEVENT
DTSTAMP:20260425T151347Z
UID:8a55a415-47ba-46a9-88a8-35499026de52
DTSTART;VALUE=DATE:20050421
DTEND;VALUE=DATE:20050421
DESCRIPTION:Steel Wheels Indoor BMX
LOCATION:709 N Hobart Rd  Hobart IN 46350 USA
SUMMARY:Standard Single
URL:/site/bmx_races/161103
END:VEVENT
END:VCALENDAR
