BEGIN:VCALENDAR
VERSION:2.0
PRODID:icalendar-ruby
CALSCALE:GREGORIAN
METHOD:PUBLISH
BEGIN:VEVENT
DTSTAMP:20260425T035438Z
UID:add658db-fecc-4de0-bcb0-6a3ddd7039bd
DTSTART;VALUE=DATE:20050127
DTEND;VALUE=DATE:20050127
DESCRIPTION:Emerald Valley BMX
LOCATION:2715 Leo Harris Pkwy  Eugene OR 97402 USA
SUMMARY:Standard Single
URL:/site/bmx_races/161458
END:VEVENT
END:VCALENDAR
