BEGIN:VCALENDAR
VERSION:2.0
PRODID:icalendar-ruby
CALSCALE:GREGORIAN
METHOD:PUBLISH
BEGIN:VEVENT
DTSTAMP:20260423T154832Z
UID:25599b8b-e34d-4cc6-814b-83736ffc13b6
DTSTART;VALUE=DATE:20050810
DTEND;VALUE=DATE:20050810
DESCRIPTION:Dacono BMX
LOCATION:113 Forest Ave  Dacono CO 80514 USA
SUMMARY:Standard Double
URL:/site/bmx_races/161668
END:VEVENT
END:VCALENDAR
