BEGIN:VCALENDAR
VERSION:2.0
PRODID:icalendar-ruby
CALSCALE:GREGORIAN
METHOD:PUBLISH
BEGIN:VEVENT
DTSTAMP:20260424T004124Z
UID:9c906cc9-5b49-415f-b5c4-b9f2ffaafe3a
DTSTART;VALUE=DATE:20050820
DTEND;VALUE=DATE:20050820
DESCRIPTION:Oldsmar BMX Supercross
LOCATION:Oldsmar Sports Complex 3120 Tampa Road Oldsmar FL 34677 USA
SUMMARY:Final Triple
URL:/site/bmx_races/161831
END:VEVENT
END:VCALENDAR
