BEGIN:VCALENDAR
VERSION:2.0
PRODID:icalendar-ruby
CALSCALE:GREGORIAN
METHOD:PUBLISH
BEGIN:VEVENT
DTSTAMP:20260425T010945Z
UID:d8a49918-2987-4fb5-a00d-474d68cea205
DTSTART;VALUE=DATE:20050918
DTEND;VALUE=DATE:20050918
DESCRIPTION:Lakes Area BMX
LOCATION:10415 Town Hall Street  Brainerd MN 56401 USA
SUMMARY:Standard Double
URL:/site/bmx_races/163132
END:VEVENT
END:VCALENDAR
