BEGIN:VCALENDAR
VERSION:2.0
PRODID:icalendar-ruby
CALSCALE:GREGORIAN
METHOD:PUBLISH
BEGIN:VEVENT
DTSTAMP:20260425T010920Z
UID:37aa515a-6596-4ff3-b4a7-fe18bc8d3a60
DTSTART;VALUE=DATE:20050925
DTEND;VALUE=DATE:20050925
DESCRIPTION:Lakes Area BMX
LOCATION:10415 Town Hall Street  Brainerd MN 56401 USA
SUMMARY:Standard Single
URL:/site/bmx_races/164497
END:VEVENT
END:VCALENDAR
