BEGIN:VCALENDAR
VERSION:2.0
PRODID:icalendar-ruby
CALSCALE:GREGORIAN
METHOD:PUBLISH
BEGIN:VEVENT
DTSTAMP:20260423T145509Z
UID:2a8a47b7-b3e8-45f0-8fbe-96d77f1daac4
DTSTART;VALUE=DATE:20141102
DTEND;VALUE=DATE:20141102
DESCRIPTION:Noonday BMX
LOCATION:547 Shallowford Rd Ne  Marietta GA 30144 USA
SUMMARY:Earned Double
URL:/site/bmx_races/185134
END:VEVENT
END:VCALENDAR
