BEGIN:VCALENDAR
VERSION:2.0
PRODID:icalendar-ruby
CALSCALE:GREGORIAN
METHOD:PUBLISH
BEGIN:VEVENT
DTSTAMP:20260419T155530Z
UID:b42e377f-2ada-49ce-b598-eb4297b965a2
DTSTART;VALUE=DATE:20140531
DTEND;VALUE=DATE:20140531
DESCRIPTION:Winchester BMX
LOCATION:1001 E. Cork Street  Winchester VA 22601 USA
SUMMARY:Local Race Single
URL:/site/bmx_races/207235
END:VEVENT
END:VCALENDAR
