BEGIN:VCALENDAR
VERSION:2.0
PRODID:icalendar-ruby
CALSCALE:GREGORIAN
METHOD:PUBLISH
BEGIN:VEVENT
DTSTAMP:20260425T232752Z
UID:843444bb-6f27-4344-a3e9-f3fcc22459c0
DTSTART;VALUE=DATE:20040720
DTEND;VALUE=DATE:20040720
DESCRIPTION:Lakes Area BMX
LOCATION:10415 Town Hall Street  Brainerd MN 56401 USA
SUMMARY:Standard Single
URL:/site/bmx_races/207697
END:VEVENT
END:VCALENDAR
