BEGIN:VCALENDAR
VERSION:2.0
PRODID:icalendar-ruby
CALSCALE:GREGORIAN
METHOD:PUBLISH
BEGIN:VEVENT
DTSTAMP:20260426T004445Z
UID:015e5514-f64f-429b-82b0-90ef9abe5b8c
DTSTART;VALUE=DATE:20041016
DTEND;VALUE=DATE:20041016
DESCRIPTION:Steel Wheels Indoor BMX
LOCATION:709 N Hobart Rd  Hobart IN 46350 USA
SUMMARY:Standard Single
URL:/site/bmx_races/210455
END:VEVENT
END:VCALENDAR
