BEGIN:VCALENDAR
VERSION:2.0
PRODID:icalendar-ruby
CALSCALE:GREGORIAN
METHOD:PUBLISH
BEGIN:VEVENT
DTSTAMP:20260425T214425Z
UID:32910786-b957-466a-8125-81a79a4dd0ff
DTSTART;VALUE=DATE:20040212
DTEND;VALUE=DATE:20040212
DESCRIPTION:Emerald Valley BMX
LOCATION:2715 Leo Harris Pkwy  Eugene OR 97402 USA
SUMMARY:Standard Single
URL:/site/bmx_races/211274
END:VEVENT
END:VCALENDAR
