BEGIN:VCALENDAR
VERSION:2.0
PRODID:icalendar-ruby
CALSCALE:GREGORIAN
METHOD:PUBLISH
BEGIN:VEVENT
DTSTAMP:20260425T214517Z
UID:00a88f2a-7c99-4bb0-8552-4869af8c841d
DTSTART;VALUE=DATE:20040807
DTEND;VALUE=DATE:20040807
DESCRIPTION:Lakes Area BMX
LOCATION:10415 Town Hall Street  Brainerd MN 56401 USA
SUMMARY:Standard Double
URL:/site/bmx_races/212897
END:VEVENT
END:VCALENDAR
