BEGIN:VCALENDAR
VERSION:2.0
PRODID:icalendar-ruby
CALSCALE:GREGORIAN
METHOD:PUBLISH
BEGIN:VEVENT
DTSTAMP:20260426T005529Z
UID:e061a9c5-79de-410d-93b9-cf7b51c9500f
DTSTART;VALUE=DATE:20040608
DTEND;VALUE=DATE:20040608
DESCRIPTION:Lakes Area BMX
LOCATION:10415 Town Hall Street  Brainerd MN 56401 USA
SUMMARY:Standard Single
URL:/site/bmx_races/213170
END:VEVENT
END:VCALENDAR
