BEGIN:VCALENDAR
VERSION:2.0
PRODID:icalendar-ruby
CALSCALE:GREGORIAN
METHOD:PUBLISH
BEGIN:VEVENT
DTSTAMP:20260425T202300Z
UID:91898772-ed5c-40b2-8575-c6a49d717504
DTSTART;VALUE=DATE:20040327
DTEND;VALUE=DATE:20040327
DESCRIPTION:Emerald Valley BMX
LOCATION:2715 Leo Harris Pkwy  Eugene OR 97402 USA
SUMMARY:Standard Single
URL:/site/bmx_races/213206
END:VEVENT
END:VCALENDAR
