BEGIN:VCALENDAR
VERSION:2.0
PRODID:icalendar-ruby
CALSCALE:GREGORIAN
METHOD:PUBLISH
BEGIN:VEVENT
DTSTAMP:20260426T005527Z
UID:8bbbbd08-a291-4b9f-89fc-51bb8d000b23
DTSTART;VALUE=DATE:20040615
DTEND;VALUE=DATE:20040615
DESCRIPTION:Lakes Area BMX
LOCATION:10415 Town Hall Street  Brainerd MN 56401 USA
SUMMARY:Standard Single
URL:/site/bmx_races/215168
END:VEVENT
END:VCALENDAR
