BEGIN:VCALENDAR
VERSION:2.0
PRODID:icalendar-ruby
CALSCALE:GREGORIAN
METHOD:PUBLISH
BEGIN:VEVENT
DTSTAMP:20260425T214516Z
UID:1f4380d0-dce4-4367-a88e-c99915581d7e
DTSTART;VALUE=DATE:20040207
DTEND;VALUE=DATE:20040207
DESCRIPTION:Emerald Valley BMX
LOCATION:2715 Leo Harris Pkwy  Eugene OR 97402 USA
SUMMARY:Standard Single
URL:/site/bmx_races/216974
END:VEVENT
END:VCALENDAR
