BEGIN:VCALENDAR
VERSION:2.0
PRODID:icalendar-ruby
CALSCALE:GREGORIAN
METHOD:PUBLISH
BEGIN:VEVENT
DTSTAMP:20260423T202910Z
UID:3d6fc57b-57ad-4b0f-a758-1513910be8a7
DTSTART;VALUE=DATE:20030629
DTEND;VALUE=DATE:20030629
DESCRIPTION:Silver Dollar BMX
LOCATION:2352 Dr. Martin Luther King Jr. Parkway  Chico CA 95928 USA
SUMMARY:Race For Life Double
URL:/site/bmx_races/220614
END:VEVENT
END:VCALENDAR
