BEGIN:VCALENDAR
VERSION:2.0
PRODID:icalendar-ruby
CALSCALE:GREGORIAN
METHOD:PUBLISH
BEGIN:VEVENT
DTSTAMP:20260422T115202Z
UID:86fbd141-5248-4bde-9882-4bdb5d7b5a68
DTSTART;VALUE=DATE:20140707
DTEND;VALUE=DATE:20140707
DESCRIPTION:Fastrax BMX
LOCATION:2800 S 12th St  Bismarck ND 58504 USA
SUMMARY:Local Race Single
URL:/site/bmx_races/228034
END:VEVENT
END:VCALENDAR
