BEGIN:VCALENDAR
VERSION:2.0
PRODID:icalendar-ruby
CALSCALE:GREGORIAN
METHOD:PUBLISH
BEGIN:VEVENT
DTSTAMP:20260422T090220Z
UID:22f8b4a1-5c39-44c2-9df0-8ee03707937f
DTSTART;VALUE=DATE:20140914
DTEND;VALUE=DATE:20140914
DESCRIPTION:Fastrax BMX
LOCATION:2800 S 12th St  Bismarck ND 58504 USA
SUMMARY:Local Race Single
URL:/site/bmx_races/228056
END:VEVENT
END:VCALENDAR
