BEGIN:VCALENDAR
VERSION:2.0
PRODID:icalendar-ruby
CALSCALE:GREGORIAN
METHOD:PUBLISH
BEGIN:VEVENT
DTSTAMP:20260423T214731Z
UID:3baccb60-32f8-4d2c-bba0-7c6a1d6eff51
DTSTART;VALUE=DATE:20020824
DTEND;VALUE=DATE:20020824
DESCRIPTION:Reno Battleborn BMX
LOCATION:Sun Valley Gid Community Park 115 W 6th Ave Sun Valley NV 89433 US
 A
SUMMARY:Final Triple
URL:/site/bmx_races/229177
END:VEVENT
END:VCALENDAR
