BEGIN:VCALENDAR
VERSION:2.0
PRODID:icalendar-ruby
CALSCALE:GREGORIAN
METHOD:PUBLISH
BEGIN:VEVENT
DTSTAMP:20260426T040016Z
UID:1b3b5a09-83a9-448d-9b68-510f3bd46b03
DTSTART;VALUE=DATE:20140918
DTEND;VALUE=DATE:20140918
DESCRIPTION:Yucca Valley BMX
LOCATION:6989 Sage Ave  Yucca Valley CA 92234 USA
SUMMARY:Warnicke Single
URL:/site/bmx_races/239275
END:VEVENT
END:VCALENDAR
