BEGIN:VCALENDAR
VERSION:2.0
PRODID:icalendar-ruby
CALSCALE:GREGORIAN
METHOD:PUBLISH
BEGIN:VEVENT
DTSTAMP:20260422T194806Z
UID:326c852e-c0d8-42c2-862a-ea41e419e6b8
DTSTART;VALUE=DATE:20140603
DTEND;VALUE=DATE:20140603
DESCRIPTION:Nanaimo BMX
LOCATION:2001 Labieux Road  Nanaimo BC V9T 3K7 CAN
SUMMARY:Non-Riding Event
URL:/site/bmx_races/239282
END:VEVENT
END:VCALENDAR
