BEGIN:VCALENDAR
VERSION:2.0
PRODID:icalendar-ruby
CALSCALE:GREGORIAN
METHOD:PUBLISH
BEGIN:VEVENT
DTSTAMP:20260423T053145Z
UID:b92ecfea-307d-4a71-986b-888193941be3
DTSTART;VALUE=DATE:20140722
DTEND;VALUE=DATE:20140722
DESCRIPTION:Lexington BMX
LOCATION:1159 Nazareth Road  Lexington SC 29073 USA
SUMMARY:Practice
URL:/site/bmx_races/250340
END:VEVENT
END:VCALENDAR
